BEGIN:VCALENDAR
VERSION:2.0
PRODID:-//Staré Lázně - ECPv4.6.9//NONSGML v1.0//EN
CALSCALE:GREGORIAN
METHOD:PUBLISH
X-WR-CALNAME:Staré Lázně
X-ORIGINAL-URL:https://starelazne.cz
X-WR-CALDESC:Events for Staré Lázně
BEGIN:VEVENT
DTSTART;TZID=Europe/Prague:20231020T210000
DTEND;TZID=Europe/Prague:20231021T050000
DTSTAMP:20260425T195804
CREATED:20231013T123703Z
LAST-MODIFIED:20231017T170824Z
UID:10997-1697835600-1697864400@starelazne.cz
SUMMARY:Zpět do minulosti
DESCRIPTION:ZPĚT DO MINULOSTI! Pokud máš rád ty největší hity z 80. a 90 let\, tak tento večer je přímo pro tebe!\n\nPro všechny návštěvníky do 0:00 máme připravený voucher v hodnotě 100 Kč\, který lze uplatnit na baru!\n\nRetro stage\nDJ Pegas\nStart 21:00\nVstup 100 Kč\nKonec 5:00\nVstup 18+\n
URL:https://starelazne.cz/event/zpet-do-minulosti/
LOCATION:Starokolínská 287\, Kolín 4\, 280 02\, Česká republika
ATTACH;FMTTYPE=image/jpeg:https://starelazne.cz/wp-content/uploads/2023/10/Zpět-do-minulosti-timeline.jpg
END:VEVENT
END:VCALENDAR