BEGIN:VCALENDAR
VERSION:2.0
PRODID:-//Staré Lázně - ECPv4.6.9//NONSGML v1.0//EN
CALSCALE:GREGORIAN
METHOD:PUBLISH
X-WR-CALNAME:Staré Lázně
X-ORIGINAL-URL:https://starelazne.cz
X-WR-CALDESC:Events for Staré Lázně
BEGIN:VEVENT
DTSTART;TZID=Europe/Prague:20231222T210000
DTEND;TZID=Europe/Prague:20231223T050000
DTSTAMP:20260424T180317
CREATED:20231112T212218Z
LAST-MODIFIED:20231112T212218Z
UID:11040-1703278800-1703307600@starelazne.cz
SUMMARY:ZPĚT DO MINULOSTI
DESCRIPTION:ZPĚT DO MINULOSTI! Pokud máš rád ty největší hity z 80. a 90 let\, tak tento večer je přímo pro tebe!\nPro všechny návštěvníky do 0:00 máme připravený voucher v hodnotě 100 Kč\, který lze uplatnit na baru! A POZOR! Kdo přijde v retro kostýmu\, získá od nás dva vouchery! Tzn 200 Kč na bar \n\nRetro stage\nDJ Pegas\n\nStart 21:00\nVstup 100 Kč\nKonec 5:00\nVstup 18+\n
URL:https://starelazne.cz/event/zpet-do-minulosti-2/
LOCATION:Starokolínská 287\, Kolín 4\, 280 02\, Česká republika
ATTACH;FMTTYPE=image/jpeg:https://starelazne.cz/wp-content/uploads/2023/11/zpět.jpeg
END:VEVENT
END:VCALENDAR