BEGIN:VCALENDAR
VERSION:2.0
PRODID:-//Staré Lázně - ECPv4.6.9//NONSGML v1.0//EN
CALSCALE:GREGORIAN
METHOD:PUBLISH
X-WR-CALNAME:Staré Lázně
X-ORIGINAL-URL:https://starelazne.cz
X-WR-CALDESC:Events for Staré Lázně
BEGIN:VEVENT
DTSTART;TZID=Europe/Prague:20221111T210000
DTEND;TZID=Europe/Prague:20221112T050000
DTSTAMP:20260424T183355
CREATED:20221026T192015Z
LAST-MODIFIED:20221026T192015Z
UID:10440-1668200400-1668229200@starelazne.cz
SUMMARY:Yzomandias & Nik Tendo / 11.11.2022 / Staré Lázně Kolín
DESCRIPTION:V polovině listopadu k nám zavítá Yzomandias & Nik Tendo! Můžete se těšit na 3x Stage. Vstupenky můžete zakoupit v síti ticketstream. \nSál\n– Yzomandias\n– Nik Tendo\n– Decky\n– Domys \nDiscotheque stage: \nFreezee\nJackie O Walker\nMichael Raywen \nRadio Stage: \nTba \nVIP Vstupenka zahrnuje: prosecco\, vodu\, vip balkon\, exkluzivní výhled\, vlastní wc \nVstup je povolen od 15 ti let. \nVstupenky budou k dispozici i na místě. \n
URL:https://starelazne.cz/event/yzomandias-nik-tendo-11-11-2022-stare-lazne-kolin/
LOCATION:Starokolínská 287\, Kolín 4\, 280 02\, Česká republika
ATTACH;FMTTYPE=image/jpeg:https://starelazne.cz/wp-content/uploads/2022/10/Yzo-timeline3.jpg
END:VEVENT
END:VCALENDAR