BEGIN:VCALENDAR
VERSION:2.0
PRODID:-//Staré Lázně - ECPv4.6.9//NONSGML v1.0//EN
CALSCALE:GREGORIAN
METHOD:PUBLISH
X-WR-CALNAME:Staré Lázně
X-ORIGINAL-URL:https://starelazne.cz
X-WR-CALDESC:Events for Staré Lázně
BEGIN:VEVENT
DTSTART;TZID=Europe/Prague:20231216T210000
DTEND;TZID=Europe/Prague:20231217T050000
DTSTAMP:20260424T194748
CREATED:20231112T212104Z
LAST-MODIFIED:20231112T212104Z
UID:11037-1702760400-1702789200@starelazne.cz
SUMMARY:VENTOLIN Live
DESCRIPTION:Umělec známý pod jménem Ventolin míří k nám do klubu. Zažij párty trošku jinak a doraž si užít tento večer!\n\nClub Stage\n– Ventolin https://www.youtube.com/watch?v=jjTOYerHRVo\n– Domys\n\nRadio Stage\n– Dj Breny\n\nPředprodej: už brzy\nVstupenky na místě 2x stage = 250 Kč\nVstupenky na místě 1x stage 150 Kč\n
URL:https://starelazne.cz/event/ventolin-live/
LOCATION:Starokolínská 287\, Kolín 4\, 280 02\, Česká republika
ATTACH;FMTTYPE=image/jpeg:https://starelazne.cz/wp-content/uploads/2023/11/VENTOLIN-timeline.jpg
END:VEVENT
END:VCALENDAR