BEGIN:VCALENDAR
VERSION:2.0
PRODID:-//Staré Lázně - ECPv4.6.9//NONSGML v1.0//EN
CALSCALE:GREGORIAN
METHOD:PUBLISH
X-WR-CALNAME:Staré Lázně
X-ORIGINAL-URL:https://starelazne.cz
X-WR-CALDESC:Events for Staré Lázně
BEGIN:VEVENT
DTSTART;TZID=Europe/Prague:20231208T210000
DTEND;TZID=Europe/Prague:20231209T050000
DTSTAMP:20260424T223220
CREATED:20231112T211736Z
LAST-MODIFIED:20231208T184049Z
UID:11031-1702069200-1702098000@starelazne.cz
SUMMARY:Vegas Night
DESCRIPTION:Vegas night je zpět! Doraž si vytočit skvělé ceny v našem kole štestí? Budou to třeba vstupy na rok zdarma? Nebo třeba drink?\nNavíc první otočení máš grátis!\n\nRadio stage\n– DJ Breny\n\nStart 21:00\nVstup 100 Kč\n18+\n
URL:https://starelazne.cz/event/vegas-night-5/
LOCATION:Starokolínská 287\, Kolín 4\, 280 02\, Česká republika
ATTACH;FMTTYPE=image/jpeg:https://starelazne.cz/wp-content/uploads/2023/11/Vegas-Night-udalost.jpg
END:VEVENT
END:VCALENDAR