BEGIN:VCALENDAR
VERSION:2.0
PRODID:-//Staré Lázně - ECPv4.6.9//NONSGML v1.0//EN
CALSCALE:GREGORIAN
METHOD:PUBLISH
X-WR-CALNAME:Staré Lázně
X-ORIGINAL-URL:https://starelazne.cz
X-WR-CALDESC:Events for Staré Lázně
BEGIN:VEVENT
DTSTART;TZID=Europe/Prague:20221028T210000
DTEND;TZID=Europe/Prague:20221029T050000
DTSTAMP:20260424T140341
CREATED:20221003T161353Z
LAST-MODIFIED:20221003T161353Z
UID:10428-1666990800-1667019600@starelazne.cz
SUMMARY:Vegas Night
DESCRIPTION:Grand Vegas Night!\nMůžete se zažít jedinečnou noc\, plnou her o panáky! A získat od nás spoustu dárků.\n\n\nCo pro Vás chystáme?\n– Kolo štěstí o super výhry!\n– Ruletu a kostky o panáky\n– Hostesky\n– Spoustu dárků\n– Kupon v hodnotě 60 Kč\, který lze uplatnit na baru za jakýkoliv nápoj! Akce platí do 0:00.\n\n\nRADIO STAGE\n• Danda\n\n\n┎ Start 21:00\n┣ Vstupné 100 Kč\n┢ Povolený věk – od 16 let\n┗ End 05:00\n
URL:https://starelazne.cz/event/vegas-night-3/
LOCATION:Starokolínská 287\, Kolín 4\, 280 02\, Česká republika
ATTACH;FMTTYPE=image/jpeg:https://starelazne.cz/wp-content/uploads/2022/10/Vegas-Night-udalost.jpg
END:VEVENT
END:VCALENDAR