BEGIN:VCALENDAR
VERSION:2.0
PRODID:-//Staré Lázně - ECPv4.6.9//NONSGML v1.0//EN
CALSCALE:GREGORIAN
METHOD:PUBLISH
X-WR-CALNAME:Staré Lázně
X-ORIGINAL-URL:https://starelazne.cz
X-WR-CALDESC:Events for Staré Lázně
BEGIN:VEVENT
DTSTART;TZID=Europe/Prague:20240209T210000
DTEND;TZID=Europe/Prague:20240210T050000
DTSTAMP:20260425T041156
CREATED:20240130T234735Z
LAST-MODIFIED:20240130T234735Z
UID:11079-1707512400-1707541200@starelazne.cz
SUMMARY:Valentýnská Párty
DESCRIPTION:Připravujeme pro vás oblíbenou Valentýnskou párty \n\n Co všechno tě čeká? \n\n\n– Lighsticky\n – Chci úlet\n – Jdu jen kalit\n – Chci někoho poznat\n– Valentýnská výzdoba \n– Pro prvních 200 lidí valentýnské brýle se speciálním efektem \n– Welcome shot \n– Drinky v akci ( Morgan & Cola\, Vodka & Džus = 80 Kč)\n– Fotoreport \n– Tik Tok rozhovory \n– 2x Stage \n– 6x DJs \n– Hostesky \n\n\nDJs:\n– YANNICK\n– OKSI\n– WOPI\n– DOMYS\n– XELAICH\n– BRENY\n\nOpen Door – 21:00\n
URL:https://starelazne.cz/event/valentynska-party/
LOCATION:Starokolínská 287\, Kolín 4\, 280 02\, Česká republika
ATTACH;FMTTYPE=image/jpeg:https://starelazne.cz/wp-content/uploads/2024/01/418161193_763664659134566_3437694260530923627_n.jpeg
END:VEVENT
END:VCALENDAR