BEGIN:VCALENDAR
VERSION:2.0
PRODID:-//Staré Lázně - ECPv4.6.9//NONSGML v1.0//EN
CALSCALE:GREGORIAN
METHOD:PUBLISH
X-WR-CALNAME:Staré Lázně
X-ORIGINAL-URL:https://starelazne.cz
X-WR-CALDESC:Events for Staré Lázně
BEGIN:VEVENT
DTSTART;TZID=Europe/Prague:20231021T210000
DTEND;TZID=Europe/Prague:20231022T050000
DTSTAMP:20260425T170409
CREATED:20230913T185504Z
LAST-MODIFIED:20230913T185504Z
UID:10982-1697922000-1697950800@starelazne.cz
SUMMARY:Underground Session
DESCRIPTION:Pro fanoušky techna jsme si připravili exkluzivní večer plný českých předních DJs! Vstup 18+\n\nClub Stage\n– Dominik Gehringer\n– Golpe\n– Chris Sadler\n– Jaqullin\n– Wopi\n\nRadio stage\n– DJ Toma\n\nStart 21:00\nVstupné 200 Kč\n18 +\nKonec 5:00\n
URL:https://starelazne.cz/event/underground-session-4/
LOCATION:Starokolínská 287\, Kolín 4\, 280 02\, Česká republika
ATTACH;FMTTYPE=image/jpeg:https://starelazne.cz/wp-content/uploads/2023/09/Underground-session-udalost2.jpg
END:VEVENT
END:VCALENDAR