BEGIN:VCALENDAR
VERSION:2.0
PRODID:-//Staré Lázně - ECPv4.6.9//NONSGML v1.0//EN
CALSCALE:GREGORIAN
METHOD:PUBLISH
X-WR-CALNAME:Staré Lázně
X-ORIGINAL-URL:https://starelazne.cz
X-WR-CALDESC:Events for Staré Lázně
BEGIN:VEVENT
DTSTART;TZID=Europe/Prague:20221126T210000
DTEND;TZID=Europe/Prague:20221127T050000
DTSTAMP:20260425T005511
CREATED:20221107T200238Z
LAST-MODIFIED:20221107T200238Z
UID:10458-1669496400-1669525200@starelazne.cz
SUMMARY:Underground Session
DESCRIPTION:Máš rád melodické techno a podobné tomu styly? Tak tento večer je přímo pro tebe!\n\nClub Stage:\n\n\nDominik Gehringer\nDaria\nHousecontrolz\n\n\n\nRadio Stage:\nTba\n\nVstup: 130 Kč\nNa akci je povoleno vstoupit od 16 let\n
URL:https://starelazne.cz/event/underground-session-3/
LOCATION:Starokolínská 287\, Kolín 4\, 280 02\, Česká republika
ATTACH;FMTTYPE=image/jpeg:https://starelazne.cz/wp-content/uploads/2022/11/Underground-session-udalost.jpg
END:VEVENT
END:VCALENDAR