BEGIN:VCALENDAR
VERSION:2.0
PRODID:-//Staré Lázně - ECPv4.6.9//NONSGML v1.0//EN
CALSCALE:GREGORIAN
METHOD:PUBLISH
X-WR-CALNAME:Staré Lázně
X-ORIGINAL-URL:https://starelazne.cz
X-WR-CALDESC:Events for Staré Lázně
BEGIN:VEVENT
DTSTART;TZID=Europe/Prague:20231007T210000
DTEND;TZID=Europe/Prague:20231008T050000
DTSTAMP:20260425T224435
CREATED:20230913T184912Z
LAST-MODIFIED:20230913T184912Z
UID:10973-1696712400-1696741200@starelazne.cz
SUMMARY:STEIN27 - PRESIDENT OF SEXICO TOUR - 3x STAGE
DESCRIPTION:Exkluzivní koncert STEIN27 proběhne už 7.10 v Klubu Staré Lázně Kolín\, kde se můžete těšit na 3x stage akci! Vstupenky jsou právě v prodeji! \nVstupenky: https://ticket.coolinfestival.cz/event/2 \nSál: \n– STEIN27\n– Domys \nClub Stage \n\nWopi\nJackie O walker\nVanner\n\n  \nRadio Stage \n– Breny \nVstup na akci je od 21:00\nPředpokládaný čas vystoupení 0:00\nVstup 15+\nVstup na místě: 450 Kč \nPředprodej zde: https://ticket.coolinfestival.cz/event/2 \nVIP Vstupenka zahrnuje vlastní bar\, výhled\, vlastní wc\, welcome drink. \nV případě mladšího návštěvníka 15 let\, je nutné přijít se zákonným zástupcem. \n
URL:https://starelazne.cz/event/stein27-president-of-sexico-tour-3x-stage/
LOCATION:Starokolínská 287\, Kolín 4\, 280 02\, Česká republika
ATTACH;FMTTYPE=image/jpeg:https://starelazne.cz/wp-content/uploads/2023/09/Stein27-timeline.jpg
END:VEVENT
END:VCALENDAR