BEGIN:VCALENDAR
VERSION:2.0
PRODID:-//Staré Lázně - ECPv4.6.9//NONSGML v1.0//EN
CALSCALE:GREGORIAN
METHOD:PUBLISH
X-WR-CALNAME:Staré Lázně
X-ORIGINAL-URL:https://starelazne.cz
X-WR-CALDESC:Events for Staré Lázně
BEGIN:VEVENT
DTSTART;TZID=Europe/Prague:20221230T210000
DTEND;TZID=Europe/Prague:20221231T050000
DTSTAMP:20260425T141538
CREATED:20221211T154652Z
LAST-MODIFIED:20221211T154652Z
UID:10742-1672434000-1672462800@starelazne.cz
SUMMARY:Silvestrovský Warm up
DESCRIPTION:Doraž se zahřát a připravit na Silvestr! O hudbu se postará DJ Tzesar.\n\n\nRADIO STAGE\n• Dj TZESAR\n\n┎ Start 21:00\n┣ Vstupné 100 CZK\n┢ Povolený věk – od 16let\n┗ End 05:00\n
URL:https://starelazne.cz/event/silvestrovsky-warm-up/
LOCATION:Starokolínská 287\, Kolín 4\, 280 02\, Česká republika
ATTACH;FMTTYPE=image/jpeg:https://starelazne.cz/wp-content/uploads/2022/12/Silvestrovský-warm-up-timeline.jpg
END:VEVENT
END:VCALENDAR