BEGIN:VCALENDAR
VERSION:2.0
PRODID:-//Staré Lázně - ECPv4.6.9//NONSGML v1.0//EN
CALSCALE:GREGORIAN
METHOD:PUBLISH
X-WR-CALNAME:Staré Lázně
X-ORIGINAL-URL:https://starelazne.cz
X-WR-CALDESC:Events for Staré Lázně
BEGIN:VEVENT
DTSTART;TZID=Europe/Prague:20230114T210000
DTEND;TZID=Europe/Prague:20230115T050000
DTSTAMP:20260425T212627
CREATED:20230104T132257Z
LAST-MODIFIED:20230104T132257Z
UID:10757-1673730000-1673758800@starelazne.cz
SUMMARY:Sergei Barracuda
DESCRIPTION:V polovině Ledna jsme pro Vás přichystali mega párty\, která bude mít 3x stage! Na hlavní stage přijede koncertovat SERGEI B!\n\nHlavní sál\n– Sergei Barracuda\n– Domys\n\nRadio stage\n– Tba\n\n\nVstupenky brzo v předprodeji!\n1. Vlna – 249 Kč – vyprodáno\n2. Vlna – 299 Kč\nNa místě 350 Kč\n\n\n┎ Start 21:00\n┢ Povolený věk – od 15let\n┗ End 05:00\n
URL:https://starelazne.cz/event/sergei-barracuda-2/
LOCATION:Starokolínská 287\, Kolín 4\, 280 02\, Česká republika
ATTACH;FMTTYPE=image/jpeg:https://starelazne.cz/wp-content/uploads/2023/01/314692834_493292806171754_4066357138241921566_n.jpeg
END:VEVENT
END:VCALENDAR