BEGIN:VCALENDAR
VERSION:2.0
PRODID:-//Staré Lázně - ECPv4.6.9//NONSGML v1.0//EN
CALSCALE:GREGORIAN
METHOD:PUBLISH
X-WR-CALNAME:Staré Lázně
X-ORIGINAL-URL:https://starelazne.cz
X-WR-CALDESC:Events for Staré Lázně
BEGIN:VEVENT
DTSTART;TZID=Europe/Prague:20221015T210000
DTEND;TZID=Europe/Prague:20221016T210000
DTSTAMP:20260424T185926
CREATED:20221003T150409Z
LAST-MODIFIED:20221003T150409Z
UID:10419-1665867600-1665954000@starelazne.cz
SUMMARY:NobodyListen
DESCRIPTION:V polovině Října k nám zavítá známý DJ a producent NobodyListen! Poslední projekt s raperem Yzomandias nabral uplně jiné rozměry!\n\nDJs:\n\n– NobodyListen\n– Domys\n– Housecontrolz\n\nRadio Stage:\n– Restin\n\nStart – 21:00\nVstup – 180 Kč\nVstup povolen od 16. let\n
URL:https://starelazne.cz/event/nobodylisten/
LOCATION:Starokolínská 287\, Kolín 4\, 280 02\, Česká republika
ATTACH;FMTTYPE=image/jpeg:https://starelazne.cz/wp-content/uploads/2022/10/nbody.jpeg
END:VEVENT
END:VCALENDAR