BEGIN:VCALENDAR
VERSION:2.0
PRODID:-//Staré Lázně - ECPv4.6.9//NONSGML v1.0//EN
CALSCALE:GREGORIAN
METHOD:PUBLISH
X-WR-CALNAME:Staré Lázně
X-ORIGINAL-URL:https://starelazne.cz
X-WR-CALDESC:Events for Staré Lázně
BEGIN:VEVENT
DTSTART;TZID=Europe/Prague:20231225T210000
DTEND;TZID=Europe/Prague:20231226T050000
DTSTAMP:20260424T163246
CREATED:20231112T212337Z
LAST-MODIFIED:20231112T212337Z
UID:11043-1703538000-1703566800@starelazne.cz
SUMMARY:NEJVĚTŠÍ VÁNOČNÍ PÁRTY
DESCRIPTION:Jako každý rok pro Vás chystáme oblíbenou Vánoční párty! Můžete se těšit na 6 metrového Santu a Soba\, Vánoční výzdobu \,Santa čepičky pro prvních 200 lidí a spoustu dalšího!\n\n\nNa co se můžeš těšit?\n– 2x Stage\n– Největší mejdan v okolí\n– Santa čepičky pro prvních 200 lidí\n– Welcome drink do 0:00\n– 6m velký Santa a Sob\n– Vánoční výzdoba\n– Santa Clause\n– Hostesky\n– 6x DJs\n\nRadio Stage:\n– DJ Breny\n\nClub Stage\n– Wopi\n– Fatty\n– Zedix\n– Xelaich\n– Domys\n\nStart 21:00\nKonec 5:00\n15+\n
URL:https://starelazne.cz/event/nejvetsi-vanocni-party/
LOCATION:Starokolínská 287\, Kolín 4\, 280 02\, Česká republika
ATTACH;FMTTYPE=image/jpeg:https://starelazne.cz/wp-content/uploads/2023/11/Vanocni-party-timeline.jpg
END:VEVENT
END:VCALENDAR