BEGIN:VCALENDAR
VERSION:2.0
PRODID:-//Staré Lázně - ECPv4.6.9//NONSGML v1.0//EN
CALSCALE:GREGORIAN
METHOD:PUBLISH
X-WR-CALNAME:Staré Lázně
X-ORIGINAL-URL:https://starelazne.cz
X-WR-CALDESC:Events for Staré Lázně
BEGIN:VEVENT
DTSTART;TZID=Europe/Prague:20221029T210000
DTEND;TZID=Europe/Prague:20221030T050000
DTSTAMP:20260424T123417
CREATED:20221003T161714Z
LAST-MODIFIED:20221003T161714Z
UID:10431-1667077200-1667106000@starelazne.cz
SUMMARY:Největší Kolínský Halloween 2022
DESCRIPTION: V sobotu 29. října tě čeká NEJVĚTŠÍ KOLÍNSKÝ HALLOWEEN a to ve Starých Lázních \nPo 10 letech pořádání akcí půjde tentokrát o POSLEDNÍ MEJDAN pod hlavičkou Yourmom event Agency. Právě z toho důvodu moc rádi uvidíme všechny naše stálé i bývalé návštěvníky\, kteří si s námi kdy užili ty nejlepší párty v okolí. Přijďte se rozloučit ve velkém stylu \nZapiš si tohle datum a doraz i s přáteli na největší párty v okolí!\nTěš se na 3 stage\, 15 DJs a doposud nejnašlapanější halloweenský program \n\n\n✚✚✚ DJ’s ✚✚✚\n✚ Stayer\n✚ Mike Frost\n✚ Lukas Innemann\n✚ YLLOW\n✚ Jackie O`Walker\n✚ Andre\n✚ Zeekee\n✚ Domys\n✚ Johnyy J\n✚ Peet Sanders\n✚ BadRabbit\n✚ Peet Holis\n✚ Barbara Franks\n✚ Matthew\n✚ Fally\n\n\n✚ NA CO VŠE SE MŮŽEŠ TĚŠIT ? ✚\n– NEJVĚTŠÍ HALLOWEENSKÁ PÁRTY\n– Poslední mejdan od Yourmom event Agency\n– Tématická výzdoba a strašidelné dýně\n– 15 DJs\n– Nezapomenutelná show\n– Speciální laserové efekty\n– Profesionálí fotoreport\n– Akční ceny na baru\n\n\n✚ VSTUPNÉ\n► 200Kč\n✚ VSTUP od 15 let s platným OP\n►►► Akci pořádá Yourmom event agency ve spolupráci s Staré Lázně\n
URL:https://starelazne.cz/event/nejvetsi-kolinsky-halloween-2022/
LOCATION:Starokolínská 287\, Kolín 4\, 280 02\, Česká republika
ATTACH;FMTTYPE=image/jpeg:https://starelazne.cz/wp-content/uploads/2022/10/halloween.jpeg
END:VEVENT
END:VCALENDAR