BEGIN:VCALENDAR
VERSION:2.0
PRODID:-//Staré Lázně - ECPv4.6.9//NONSGML v1.0//EN
CALSCALE:GREGORIAN
METHOD:PUBLISH
X-WR-CALNAME:Staré Lázně
X-ORIGINAL-URL:https://starelazne.cz
X-WR-CALDESC:Events for Staré Lázně
BEGIN:VEVENT
DTSTART;TZID=Europe/Prague:20230203T210000
DTEND;TZID=Europe/Prague:20230204T050000
DTSTAMP:20260426T040404
CREATED:20230120T183213Z
LAST-MODIFIED:20230120T183213Z
UID:10772-1675458000-1675486800@starelazne.cz
SUMMARY:Narozeninová párty pro Únorové oslavence
DESCRIPTION:Máš v Únoru narozeniny?\n\nDoraž 3.2. 2023 do Starých Lázní oslavit narozeniny a jako Únorový oslavenec od nás dostaneš zdarma vstup pro tebe a všechny tvé kámoše\, 100Kč na baru za každého člena tvé oslavy a k tomu ještě dva panáky ochucené Amundsen vodky zdarma pro každého člena oslavenecké party (max 20 panáků).\n\nPodmínky uplatnění:\n– oslavenec musí v den konání dovršit 18 let (pro získání alkoholu)\n– skupina musí přijít dohromady (s oslavencem)\n– skupina musí přijít nejpozději do 00:00\n– není třeba se objednávat\n– budget na baru do maximální výše 1000 Kč\n– minimální množství pro získání kreditu je 5 přátel (500Kč)\n– vstup od 16 let\n– členi skupiny kteří jsou pod 18 let\nzískávají pouze vstupné zdarma\n\n\nRADIO STAGE\n• Dj Tzesar\n┎ Start 21:00\n┣ Vstupné 100 CZK\n┢ Povolený věk – od 16let\n┗ End 05:00\n
URL:https://starelazne.cz/event/narozeninova-party-unorove-oslavence-2/
LOCATION:Starokolínská 287\, Kolín 4\, 280 02\, Česká republika
ATTACH;FMTTYPE=image/jpeg:https://starelazne.cz/wp-content/uploads/2023/01/Narozeninová-timeline-1.jpg
END:VEVENT
END:VCALENDAR