BEGIN:VCALENDAR
VERSION:2.0
PRODID:-//Staré Lázně - ECPv4.6.9//NONSGML v1.0//EN
CALSCALE:GREGORIAN
METHOD:PUBLISH
X-WR-CALNAME:Staré Lázně
X-ORIGINAL-URL:https://starelazne.cz
X-WR-CALDESC:Events for Staré Lázně
BEGIN:VEVENT
DTSTART;VALUE=DATE:20240112
DTEND;VALUE=DATE:20240114
DTSTAMP:20260424T180206
CREATED:20240109T162042Z
LAST-MODIFIED:20240109T162042Z
UID:11047-1705017600-1705190399@starelazne.cz
SUMMARY:Narozeninová párty pro lednové oslavence
DESCRIPTION:Máš v lednu narozeniny?\n\nDoraž 12.1 2024 do Starých Lázní oslavit narozeniny a jako lednový oslavenec od nás dostaneš zdarma vstup pro tebe a všechny tvé kámoše\, 100Kč na baru za každého člena tvé oslavy a k tomu ještě kýbl alkoholu.\nPodmínky uplatnění:\n– oslavenec musí v den konání dovršit 18 let (pro získání alkoholu)\n– skupina musí přijít dohromady (s oslavencem)\n– skupina musí přijít nejpozději do 00:00\n– není třeba se objednávat\n– budget na baru do maximální výše 1000 Kč\n– minimální množství pro získání kreditu je 5 přátel (500Kč)\n– členi skupiny kteří jsou pod 18 let\nzískávají pouze vstupné zdarma\n\nRADIO STAGE\n• Dj Breny\nStart 21:00\nVstupné 100 CZK\n16+\n
URL:https://starelazne.cz/event/narozeninova-party-lednove-oslavence-2/
LOCATION:Starokolínská 287\, Kolín 4\, 280 02\, Česká republika
ATTACH;FMTTYPE=image/jpeg:https://starelazne.cz/wp-content/uploads/2024/01/Narozeninova-timeline.jpg
END:VEVENT
END:VCALENDAR