BEGIN:VCALENDAR
VERSION:2.0
PRODID:-//Staré Lázně - ECPv4.6.9//NONSGML v1.0//EN
CALSCALE:GREGORIAN
METHOD:PUBLISH
X-WR-CALNAME:Staré Lázně
X-ORIGINAL-URL:https://starelazne.cz
X-WR-CALDESC:Events for Staré Lázně
BEGIN:VEVENT
DTSTART;TZID=Europe/Prague:20221202T210000
DTEND;TZID=Europe/Prague:20221203T050000
DTSTAMP:20260425T021846
CREATED:20221107T200603Z
LAST-MODIFIED:20221107T200603Z
UID:10461-1670014800-1670043600@starelazne.cz
SUMMARY:Morgan Night
DESCRIPTION:Morgan s colou v akci po celý večer a nejen to! Máme pro Vás připravené skvělé dárky přímo od Morgana.\n\nRadio Stage:\nDj Breny\n\n\nOpen Door 21:00\nVstupné 100 Kč\nKonec 5:00\n16+\n
URL:https://starelazne.cz/event/morgan-night/
LOCATION:Starokolínská 287\, Kolín 4\, 280 02\, Česká republika
ATTACH;FMTTYPE=image/jpeg:https://starelazne.cz/wp-content/uploads/2022/11/Morgan-timeline.jpg
END:VEVENT
END:VCALENDAR