BEGIN:VCALENDAR
VERSION:2.0
PRODID:-//Staré Lázně - ECPv4.6.9//NONSGML v1.0//EN
CALSCALE:GREGORIAN
METHOD:PUBLISH
X-WR-CALNAME:Staré Lázně
X-ORIGINAL-URL:https://starelazne.cz
X-WR-CALDESC:Events for Staré Lázně
BEGIN:VEVENT
DTSTART;TZID=Europe/Prague:20231103T210000
DTEND;TZID=Europe/Prague:20231104T050000
DTSTAMP:20260425T120652
CREATED:20231026T151653Z
LAST-MODIFIED:20231026T151653Z
UID:11010-1699045200-1699074000@starelazne.cz
SUMMARY:Morgan Night
DESCRIPTION:Oblíbený Morgan po celý večer v akci! Pro všechny návštěvníky mámě připravený welcome drink do 0:00. Na tuto akci je možný vstup pouze osobám starším 18ti let.\n\nRadio stage:\nDj Breny\n\nStart 21:00\nVstup 100 Kč\n
URL:https://starelazne.cz/event/morgan-night-2/
LOCATION:Starokolínská 287\, Kolín 4\, 280 02\, Česká republika
ATTACH;FMTTYPE=image/jpeg:https://starelazne.cz/wp-content/uploads/2023/10/Morgan-timeline.jpg
END:VEVENT
END:VCALENDAR