BEGIN:VCALENDAR
VERSION:2.0
PRODID:-//Staré Lázně - ECPv4.6.9//NONSGML v1.0//EN
CALSCALE:GREGORIAN
METHOD:PUBLISH
X-WR-CALNAME:Staré Lázně
X-ORIGINAL-URL:https://starelazne.cz
X-WR-CALDESC:Events for Staré Lázně
BEGIN:VEVENT
DTSTART;TZID=Europe/Prague:20220930T210000
DTEND;TZID=Europe/Prague:20221001T050000
DTSTAMP:20260425T021710
CREATED:20220829T105959Z
LAST-MODIFIED:20220829T110009Z
UID:10399-1664571600-1664600400@starelazne.cz
SUMMARY:Mexická Noc
DESCRIPTION:Mexická noc! Můžeš se těšit na akci plnou divokého tance.\nPo celý večer buse v akci Corona a Tequilla.\n\nRadio Stage\n• DJ Tba\n┎ Otevřeno od 21:00\n┣ Vstupné 100 CZK\n┢ Povolený věk – od 16 let\n┗ End 05:00\n
URL:https://starelazne.cz/event/mexicka-noc/
LOCATION:Starokolínská 287\, Kolín 4\, 280 02\, Česká republika
ATTACH;FMTTYPE=image/jpeg:https://starelazne.cz/wp-content/uploads/2022/08/Mexicka-noc-udalost.jpg
END:VEVENT
END:VCALENDAR