BEGIN:VCALENDAR
VERSION:2.0
PRODID:-//Staré Lázně - ECPv4.6.9//NONSGML v1.0//EN
CALSCALE:GREGORIAN
METHOD:PUBLISH
X-WR-CALNAME:Staré Lázně
X-ORIGINAL-URL:https://starelazne.cz
X-WR-CALDESC:Events for Staré Lázně
BEGIN:VEVENT
DTSTART;TZID=Europe/Prague:20221225T210000
DTEND;TZID=Europe/Prague:20221226T050000
DTSTAMP:20260425T122945
CREATED:20221107T202531Z
LAST-MODIFIED:20221223T003803Z
UID:10476-1672002000-1672030800@starelazne.cz
SUMMARY:MEGA CHRISTMAS PARTY
DESCRIPTION:Představujeme Vám tu Největší Vánoční Párty v okolí! Můžete se těšit na\, výzdobu\, santa clause\, spoustu DJs a taky na dárečky.\n\nDJs:\nHlavní stage  RAP / EDM\n\n– DZETY\n– DOMYS\n– WOPI\n– VLAD LAUREN\n\nRadio Stage:\n\n– Fally\nNa co se můžetě těšit? \n\n– Vánoční výzdoba\n– Živý Santa Claus\n– Hostesky\n– Pro prvních 300 lidí Vánoční čepička\n– 5x DJs\n– Fotograf\n– Největší mejdan v okolí!\n\nKdy?\n25.12.2022\nStart:\n21:00\nVstup: 199\,-\nVstup na akci je povolen od 15 let\n
URL:https://starelazne.cz/event/mega-christmas-party-3x-stage/
LOCATION:Starokolínská 287\, Kolín 4\, 280 02\, Česká republika
ATTACH;FMTTYPE=image/jpeg:https://starelazne.cz/wp-content/uploads/2022/11/319858268_1922144771467758_1287327371418513749_n.jpg
END:VEVENT
END:VCALENDAR