BEGIN:VCALENDAR
VERSION:2.0
PRODID:-//Staré Lázně - ECPv4.6.9//NONSGML v1.0//EN
CALSCALE:GREGORIAN
METHOD:PUBLISH
X-WR-CALNAME:Staré Lázně
X-ORIGINAL-URL:https://starelazne.cz
X-WR-CALDESC:Events for Staré Lázně
BEGIN:VEVENT
DTSTART;TZID=Europe/Prague:20221008T210000
DTEND;TZID=Europe/Prague:20221009T050000
DTSTAMP:20260424T214823
CREATED:20221003T145847Z
LAST-MODIFIED:20221003T145847Z
UID:10413-1665262800-1665291600@starelazne.cz
SUMMARY:Lunetic
DESCRIPTION:Na první týden v Říjnu jsme pro Vás přichystali koncert známé kapely Lunetic.\nVystoupení proběhne v horní části klubu na sále. Lístek na koncert zahrnuje i vstup do spodních částí klubu\, kde se můžete těšit na Radio a Discotheque stage.\n\n\nHorní Sál:\nLunetic\nRestin\n\nRadio Stage\n\nThomas Angello\n\nDiscotheque Stage\nTba\n\nPředprodej v síti Tickestream – 220 Kč\nVIP Vstupenky – 590 Kč ( Zahrnuje – exkluzivní výhled z balkonu\, vlastní wc\, raut\, vodu\, prosecco)\nKoncert je plánován na 23:00\n\n\n┎ Otevřeno od 21:00\n┣ Vstupné na místě 290 CZK (celý barák)\n┣ Vstupné na místě pouze do spodní části – 130 Kč.\n┢ Povolený věk – od 16 let\n┗ End 05:00\n
URL:https://starelazne.cz/event/lunetic/
LOCATION:Starokolínská 287\, Kolín 4\, 280 02\, Česká republika
ATTACH;FMTTYPE=image/jpeg:https://starelazne.cz/wp-content/uploads/2022/10/Lunetic-timeline.jpg
END:VEVENT
END:VCALENDAR