BEGIN:VCALENDAR
VERSION:2.0
PRODID:-//Staré Lázně - ECPv4.6.9//NONSGML v1.0//EN
CALSCALE:GREGORIAN
METHOD:PUBLISH
X-WR-CALNAME:Staré Lázně
X-ORIGINAL-URL:https://starelazne.cz
X-WR-CALDESC:Events for Staré Lázně
BEGIN:VEVENT
DTSTART;TZID=Europe/Prague:20221112T210000
DTEND;TZID=Europe/Prague:20221113T050000
DTSTAMP:20260424T185316
CREATED:20221026T192622Z
LAST-MODIFIED:20221026T192622Z
UID:10446-1668286800-1668315600@starelazne.cz
SUMMARY:Lets Continue
DESCRIPTION:Večer plný housové a tech houseové hudby! Tento den oslaví narozeniny DJ a náš kamarád Witny.\n\nDiscotheque stage:\n– Makrela\n– Savage\n– Housecontrolz\n– Freezee\n– Dobi\n– Funspeed\n– Pierre Marco\nRadio Stage:\n– Restin\n\nVstup 130 Kč.\nPovolený věk od 16 let\n
URL:https://starelazne.cz/event/lets-continue/
LOCATION:Starokolínská 287\, Kolín 4\, 280 02\, Česká republika
ATTACH;FMTTYPE=image/jpeg:https://starelazne.cz/wp-content/uploads/2022/10/Lets-Continue-timeline.jpg
END:VEVENT
END:VCALENDAR