BEGIN:VCALENDAR
VERSION:2.0
PRODID:-//Staré Lázně - ECPv4.6.9//NONSGML v1.0//EN
CALSCALE:GREGORIAN
METHOD:PUBLISH
X-WR-CALNAME:Staré Lázně
X-ORIGINAL-URL:https://starelazne.cz
X-WR-CALDESC:Events for Staré Lázně
BEGIN:VEVENT
DTSTART;TZID=Europe/Prague:20250926T210000
DTEND;TZID=Europe/Prague:20250927T050000
DTSTAMP:20260425T235452
CREATED:20250901T173825Z
LAST-MODIFIED:20250901T173825Z
UID:11454-1758920400-1758949200@starelazne.cz
SUMMARY:Kýbl Párty
DESCRIPTION:Libovolný kýbl v akci pouze 300 Kč! Vem s sebou partu a doražte pořádně zapařit.\nRadio Stage:\nDJ Breny\nVstup 100 Kč\n
URL:https://starelazne.cz/event/kybl-party-13/
LOCATION:Starokolínská 287\, Kolín\, 28002\, CZ
ATTACH;FMTTYPE=image/jpeg:https://starelazne.cz/wp-content/uploads/2025/09/Kybl-party-timeline.jpg
END:VEVENT
END:VCALENDAR