BEGIN:VCALENDAR
VERSION:2.0
PRODID:-//Staré Lázně - ECPv4.6.9//NONSGML v1.0//EN
CALSCALE:GREGORIAN
METHOD:PUBLISH
X-WR-CALNAME:Staré Lázně
X-ORIGINAL-URL:https://starelazne.cz
X-WR-CALDESC:Events for Staré Lázně
BEGIN:VEVENT
DTSTART;TZID=Europe/Prague:20231117T210000
DTEND;TZID=Europe/Prague:20231118T050000
DTSTAMP:20260425T041610
CREATED:20231026T151302Z
LAST-MODIFIED:20231026T151302Z
UID:11004-1700254800-1700283600@starelazne.cz
SUMMARY:Kýbl Párty
DESCRIPTION:Oblíbené XXL kýble po celý večer v akci! Pro všechny návštěvníky mámě připravený welcome drink do 0:00. Na tuto akci je možný vstup pouze osobám starším 18ti let.\n\nRadio stage:\nDj Breny\n\nStart 21:00\nVstup 100 Kč\n
URL:https://starelazne.cz/event/kybl-party-11/
LOCATION:Starokolínská 287\, Kolín 4\, 280 02\, Česká republika
ATTACH;FMTTYPE=image/jpeg:https://starelazne.cz/wp-content/uploads/2023/10/Kýbl-party-timeline.jpg
END:VEVENT
END:VCALENDAR