BEGIN:VCALENDAR
VERSION:2.0
PRODID:-//Staré Lázně - ECPv4.6.9//NONSGML v1.0//EN
CALSCALE:GREGORIAN
METHOD:PUBLISH
X-WR-CALNAME:Staré Lázně
X-ORIGINAL-URL:https://starelazne.cz
X-WR-CALDESC:Events for Staré Lázně
BEGIN:VEVENT
DTSTART;TZID=Europe/Prague:20221119T210000
DTEND;TZID=Europe/Prague:20221120T050000
DTSTAMP:20260424T220748
CREATED:20221107T195750Z
LAST-MODIFIED:20221107T195750Z
UID:10452-1668891600-1668920400@starelazne.cz
SUMMARY:Kubánská Noc
DESCRIPTION:Připravili jsme pro Vás Kubánskou noc plnou kvalitních rumů.\n\n\nRadio stage\n– Fanny\n\n┎ Start 21:00\n┣ Vstupné 100 CZK\n┢ Povolený věk – od 16let\n┗ End 05:00\n
URL:https://starelazne.cz/event/kubanska-noc/
LOCATION:Starokolínská 287\, Kolín 4\, 280 02\, Česká republika
ATTACH;FMTTYPE=image/jpeg:https://starelazne.cz/wp-content/uploads/2022/11/Kubánská-noc-timeline.jpg
END:VEVENT
END:VCALENDAR