BEGIN:VCALENDAR
VERSION:2.0
PRODID:-//Staré Lázně - ECPv4.6.9//NONSGML v1.0//EN
CALSCALE:GREGORIAN
METHOD:PUBLISH
X-WR-CALNAME:Staré Lázně
X-ORIGINAL-URL:https://starelazne.cz
X-WR-CALDESC:Events for Staré Lázně
BEGIN:VEVENT
DTSTART;TZID=Europe/Prague:20221203T210000
DTEND;TZID=Europe/Prague:20221204T050000
DTSTAMP:20260425T035043
CREATED:20221107T200814Z
LAST-MODIFIED:20221107T200814Z
UID:10464-1670101200-1670130000@starelazne.cz
SUMMARY:KRAMPUS NIGHT with MANENE
DESCRIPTION:Představujeme Vám Krampus Night! Dorazí k nám opravdoví krampusáci\, kteří vám vyrazí dech svojí strašidelností! Během večera se můžete těšit až na 5 Djs a jeden z nich bude jeden z nejůspěšnějších na české scéně a to Manene.\n\n\nNa co se můžete těšit?\n– Krampus Čerti\n– Hostesky\n– Kupon v hodnotě 60 Kč\n– 5x DJs\n– 2x Stage\n– Fotoreport\n\nDiscotheque Stage\n– Manene\n– Domys\n– Vanner\n– Housecontrolz\n\n\n\nRadio stage\n– Tba\n\n\nStart akce – 21:00\nVstupné – 190 Kč\nNa akci je povoleno vstoupit od 16 let.\nKonec – 5:00\n
URL:https://starelazne.cz/event/krampus-night-with-manene/
LOCATION:Starokolínská 287\, Kolín 4\, 280 02\, Česká republika
ATTACH;FMTTYPE=image/jpeg:https://starelazne.cz/wp-content/uploads/2022/11/stare-lazne_KRAMPUS-NIGHT_1920x1080_v01.jpeg
END:VEVENT
END:VCALENDAR