BEGIN:VCALENDAR
VERSION:2.0
PRODID:-//Staré Lázně - ECPv4.6.9//NONSGML v1.0//EN
CALSCALE:GREGORIAN
METHOD:PUBLISH
X-WR-CALNAME:Staré Lázně
X-ORIGINAL-URL:https://starelazne.cz
X-WR-CALDESC:Events for Staré Lázně
BEGIN:VEVENT
DTSTART;TZID=Europe/Prague:20231014T210000
DTEND;TZID=Europe/Prague:20231015T050000
DTSTAMP:20260425T200036
CREATED:20231013T122931Z
LAST-MODIFIED:20231013T122931Z
UID:10994-1697317200-1697346000@starelazne.cz
SUMMARY:KISS or SLAP
DESCRIPTION:Oblíbená Kiss or Slap party míří do našeho klubu!\n\nVšichni návštěvníci\, kteří přijdou do 0:00\, získají od nás voucher v hodnotě 60 Kč.\n\nČervený náramek = Kiss\nZelený náramek = Slap\n\n\nClub Stage:\n– Domys\n– Jackie O Walker\n– Vanner\n\nRadio Stage\n– DJ Restin\n\n\nStart 21:00\nVstup 150 Kč\nKonec 5:00\n
URL:https://starelazne.cz/event/kiss-or-slap/
LOCATION:Starokolínská 287\, Kolín 4\, 280 02\, Česká republika
ATTACH;FMTTYPE=image/jpeg:https://starelazne.cz/wp-content/uploads/2023/10/Kiss-or-Slap-timeline.jpg
END:VEVENT
END:VCALENDAR