BEGIN:VCALENDAR
VERSION:2.0
PRODID:-//Staré Lázně - ECPv4.6.9//NONSGML v1.0//EN
CALSCALE:GREGORIAN
METHOD:PUBLISH
X-WR-CALNAME:Staré Lázně
X-ORIGINAL-URL:https://starelazne.cz
X-WR-CALDESC:Events for Staré Lázně
BEGIN:VEVENT
DTSTART;TZID=Europe/Prague:20251101T210000
DTEND;TZID=Europe/Prague:20251102T050000
DTSTAMP:20260425T150408
CREATED:20251004T110628Z
LAST-MODIFIED:20251004T110628Z
UID:11472-1762030800-1762059600@starelazne.cz
SUMMARY:Halloween 3x Stage / G1NTER
DESCRIPTION: HALLOWEEN PARTY – STARÉ LÁZNĚ KOLÍN  1. 11. 2025 |  Open door: 21:00\nPřiprav se na nejstrašidelnější noc v Kolíně! Tři stage\, temná atmosféra\, tematická výzdoba a welcome drink hned u vstupu tě vtáhnou do pořádného halloweenského mejdanu.\n Hlavní hvězda večera: G1nter Dále se představí dalších 6 DJs\, kteří tě nenechají vydechnout až do rána.\n Předprodej běží v síti Eventlook.cz Vstupenky budou k dostání i na místě za 250 Kč.\nMísto: Staré lázně KolínDatum: 1. listopadu 2025\nPřijď se pobavit\, zatančit a užít si nezapomenutelný Halloween! \n
URL:https://starelazne.cz/event/halloween-3x-stage-g1nter/
LOCATION:Starokolínská 287\, Kolín 4\, 280 02\, Česká republika
ATTACH;FMTTYPE=image/jpeg:https://starelazne.cz/wp-content/uploads/2025/10/545252241_1194438706057157_5852463750655057219_n.jpg
END:VEVENT
END:VCALENDAR