BEGIN:VCALENDAR
VERSION:2.0
PRODID:-//Staré Lázně - ECPv4.6.9//NONSGML v1.0//EN
CALSCALE:GREGORIAN
METHOD:PUBLISH
X-WR-CALNAME:Staré Lázně
X-ORIGINAL-URL:https://starelazne.cz
X-WR-CALDESC:Events for Staré Lázně
BEGIN:VEVENT
DTSTART;TZID=Europe/Prague:20251108T210000
DTEND;TZID=Europe/Prague:20251109T050000
DTSTAMP:20260425T113526
CREATED:20251104T223035Z
LAST-MODIFIED:20251104T223035Z
UID:11478-1762635600-1762664400@starelazne.cz
SUMMARY:GIRLS NIGHT
DESCRIPTION:GIRLS NIGHT – jen pro holky\, co se umí bavit! \nV pátek 8. listopadu se Staré Lázně promění v ráj všech holek\, slečen a dam! Do půlnoci máte vstup ZDARMA + welcome koktejl na přivítanou! \nO nejžhavější beaty se postará DJ Breny\, takže parket bude hořet až do rána!  Kluci vstup: 100 Kč Po 0:00 všichni 100 Kč Staré Lázně\, Kolín Start: 21:00\n Přijď s kamarádkami\, užij si drinky\, hudbu a noc plnou zábavy.Tohle bude GIRLS NIGHT\, na kterou se jen tak nezapomíná! \n
URL:https://starelazne.cz/event/girls-night-2/
LOCATION:Starokolínská 287\, Kolín\, 28002\, CZ
ATTACH;FMTTYPE=image/jpeg:https://starelazne.cz/wp-content/uploads/2025/11/567449400_1233631582137869_8343256676980565939_n.jpg
END:VEVENT
END:VCALENDAR