BEGIN:VCALENDAR
VERSION:2.0
PRODID:-//Staré Lázně - ECPv4.6.9//NONSGML v1.0//EN
CALSCALE:GREGORIAN
METHOD:PUBLISH
X-WR-CALNAME:Staré Lázně
X-ORIGINAL-URL:https://starelazne.cz
X-WR-CALDESC:Events for Staré Lázně
BEGIN:VEVENT
DTSTART;TZID=Europe/Prague:20231124T210000
DTEND;TZID=Europe/Prague:20231125T050000
DTSTAMP:20260425T024726
CREATED:20231026T152507Z
LAST-MODIFIED:20231026T152507Z
UID:11022-1700859600-1700888400@starelazne.cz
SUMMARY:GIN & TONIC Night
DESCRIPTION:Oblíbený drink Gin & Tonic po celý večer v akci! Pro všechny návštěvníky mámě připravený welcome drink do 0:00. Na tuto akci je možný vstup pouze osobám starším 18ti let.\n\nRadio stage:\nDj Breny\n\nStart 21:00\nVstup 100 Kč\n
URL:https://starelazne.cz/event/gin-tonic-night/
LOCATION:Starokolínská 287\, Kolín 4\, 280 02\, Česká republika
ATTACH;FMTTYPE=image/jpeg:https://starelazne.cz/wp-content/uploads/2023/10/Gin-Tonic-timeline.jpg
END:VEVENT
END:VCALENDAR