BEGIN:VCALENDAR
VERSION:2.0
PRODID:-//Staré Lázně - ECPv4.6.9//NONSGML v1.0//EN
CALSCALE:GREGORIAN
METHOD:PUBLISH
X-WR-CALNAME:Staré Lázně
X-ORIGINAL-URL:https://starelazne.cz
X-WR-CALDESC:Events for Staré Lázně
BEGIN:VEVENT
DTSTART;TZID=Europe/Prague:20221001T210000
DTEND;TZID=Europe/Prague:20221002T050000
DTSTAMP:20260425T004125
CREATED:20220930T131042Z
LAST-MODIFIED:20220930T131042Z
UID:10407-1664658000-1664686800@starelazne.cz
SUMMARY:Future Friends
DESCRIPTION:Rostoucí duo Future Friends\, které je známé svými remixy přijiždí do klubu Staré Lázně Kolín. \n  \nDiscotheque Stage \n– Future Friends\n– Dannyx\n– Dawe Walli \n  \nRadio Stage \n– Restin \n  \n┎ Otevřeno od 21:00\n┣ Vstupné 130 CZK\n┢ Povolený věk – od 16 let\n┗ End 05:00 \n
URL:https://starelazne.cz/event/future-friends/
LOCATION:Starokolínská 287\, Kolín 4\, 280 02\, Česká republika
ATTACH;FMTTYPE=image/jpeg:https://starelazne.cz/wp-content/uploads/2022/09/FF-timeline.jpg
END:VEVENT
END:VCALENDAR