BEGIN:VCALENDAR
VERSION:2.0
PRODID:-//Staré Lázně - ECPv4.6.9//NONSGML v1.0//EN
CALSCALE:GREGORIAN
METHOD:PUBLISH
X-WR-CALNAME:Staré Lázně
X-ORIGINAL-URL:https://starelazne.cz
X-WR-CALDESC:Events for Staré Lázně
BEGIN:VEVENT
DTSTART;TZID=Europe/Prague:20251017T220000
DTEND;TZID=Europe/Prague:20251018T050000
DTSTAMP:20260425T175535
CREATED:20251004T110205Z
LAST-MODIFIED:20251004T110205Z
UID:11466-1760738400-1760763600@starelazne.cz
SUMMARY:Flirt Party
DESCRIPTION:Naše seznamovací párty je zpět! \nČERVENÁ = CHCI ÚLET\nZELENÁ = JSEM NEZADANÝ / CHCI SE SEZNÁMIT\nŽLUTÁ = JSEM ZADANÝ \n  \nRadio stage: \nDj Tzesar \nVstup 100 Kč \n
URL:https://starelazne.cz/event/flirt-party-19/
LOCATION:Starokolínská 287\, Kolín 4\, 280 02\, Česká republika
ATTACH;FMTTYPE=image/jpeg:https://starelazne.cz/wp-content/uploads/2025/10/555792524_1211700610997633_7942538108151996614_n.jpg
END:VEVENT
END:VCALENDAR