BEGIN:VCALENDAR
VERSION:2.0
PRODID:-//Staré Lázně - ECPv4.6.9//NONSGML v1.0//EN
CALSCALE:GREGORIAN
METHOD:PUBLISH
X-WR-CALNAME:Staré Lázně
X-ORIGINAL-URL:https://starelazne.cz
X-WR-CALDESC:Events for Staré Lázně
BEGIN:VEVENT
DTSTART;TZID=Europe/Prague:20221007T210000
DTEND;TZID=Europe/Prague:20221008T050000
DTSTAMP:20260424T231149
CREATED:20221003T145436Z
LAST-MODIFIED:20221003T145436Z
UID:10410-1665176400-1665205200@starelazne.cz
SUMMARY:Flirt Party
DESCRIPTION:Doraž najít svojí drahou polovičku\, pomůžeme ti s výběrem!\nčervený náramek – Chci úlet\nzelený náramek – Jsem free\nžlutý náramek – jsem zadaný.\n\n\nRadio Stage\n• DJ Tzesar\n\n┎ Otevřeno od 21:00\n┣ Vstupné 100 CZK\n┢ Povolený věk – od 16 let\n┗ End 05:00\n
URL:https://starelazne.cz/event/flirt-party-15/
LOCATION:Starokolínská 287\, Kolín 4\, 280 02\, Česká republika
ATTACH;FMTTYPE=image/jpeg:https://starelazne.cz/wp-content/uploads/2022/10/Flirt-party-timeline.jpg
END:VEVENT
END:VCALENDAR