BEGIN:VCALENDAR
VERSION:2.0
PRODID:-//Staré Lázně - ECPv4.6.9//NONSGML v1.0//EN
CALSCALE:GREGORIAN
METHOD:PUBLISH
X-WR-CALNAME:Staré Lázně
X-ORIGINAL-URL:https://starelazne.cz
X-WR-CALDESC:Events for Staré Lázně
BEGIN:VEVENT
DTSTART;TZID=Europe/Prague:20190907T210000
DTEND;TZID=Europe/Prague:20190908T050000
DTSTAMP:20260423T122907
CREATED:20190815T140811Z
LAST-MODIFIED:20190907T182926Z
UID:6179-1567890000-1567918800@starelazne.cz
SUMMARY:Feel The Bass - Domys\, Matthew\, Dannyx
DESCRIPTION:★ Feel The Bass ★ \nZažij trošku něco z tvrdšího hrníčku. \nPřipravili jsme pro tebe speciální noc plnou rychlejších a tvrdších beatů v podání místních populárních DJs. Zazní styly jako jsou future house\, bass house\, psytrance\, hardstyle\, dnb\,  EDM apod. \nNa stage se představí vycházející hvězdy a DJscí nováčci\, kteří mají velký potenciál. Zaručený je tak sound plný nejrůznějších novinek a trendy stylů\, který tě překvapí a ukáže ti nový pohled na taneční scénu. \nTeš se na tyto DJs: \nDISCOTHEQUE STAGE\n• DOMYS\n• DANNYX\n• MATTHEW \nRADIO STAGE\n•  DJ FREEZER \n┎ Otevřeno od 21:00\n┣ Vstupné  90 CZK\n┢ Povolený věk – od 17let\n┗ End 05:00 \n
URL:https://starelazne.cz/event/feel-the-bass-domys-matthew-dannyx/
LOCATION:Starokolínská 287\, Kolín 4\, 280 02\, Česká republika
ATTACH;FMTTYPE=image/jpeg:https://starelazne.cz/wp-content/uploads/2019/08/timeline.jpg
END:VEVENT
END:VCALENDAR