BEGIN:VCALENDAR
VERSION:2.0
PRODID:-//Staré Lázně - ECPv4.6.9//NONSGML v1.0//EN
CALSCALE:GREGORIAN
METHOD:PUBLISH
X-WR-CALNAME:Staré Lázně
X-ORIGINAL-URL:https://starelazne.cz
X-WR-CALDESC:Events for Staré Lázně
BEGIN:VEVENT
DTSTART;TZID=Europe/Prague:20221105T210000
DTEND;TZID=Europe/Prague:20221106T050000
DTSTAMP:20260424T153902
CREATED:20221026T191634Z
LAST-MODIFIED:20221026T191634Z
UID:10437-1667682000-1667710800@starelazne.cz
SUMMARY:DNB NIGHT
DESCRIPTION:DNB Night se vrací do našeho klubu! Příznivcí Drum and Bass scény se můžou těšit na pořádnou nálož hudby!\n\nDiscotheque Stage:\nPixie\nBea\nThiew\nCritical J\nPhoenix b2b Johny\nRADIO STAGE\n\n\n• Dj Tba\n\n\n┎ Start 21:00\n┣ Vstupné 150 CZK\n┢ Povolený věk – od 16let\n┗ End 05:00\n
URL:https://starelazne.cz/event/dnb-night-2/
LOCATION:Starokolínská 287\, Kolín 4\, 280 02\, Česká republika
ATTACH;FMTTYPE=image/jpeg:https://starelazne.cz/wp-content/uploads/2022/10/Dnb-timeline.jpg
END:VEVENT
END:VCALENDAR