BEGIN:VCALENDAR
VERSION:2.0
PRODID:-//Staré Lázně - ECPv4.6.9//NONSGML v1.0//EN
CALSCALE:GREGORIAN
METHOD:PUBLISH
X-WR-CALNAME:Staré Lázně
X-ORIGINAL-URL:https://starelazne.cz
X-WR-CALDESC:Events for Staré Lázně
BEGIN:VEVENT
DTSTART;TZID=Europe/Prague:20251107T220000
DTEND;TZID=Europe/Prague:20251108T050000
DTSTAMP:20260425T131003
CREATED:20251104T222912Z
LAST-MODIFIED:20251104T222912Z
UID:11475-1762552800-1762578000@starelazne.cz
SUMMARY:DISCO NIGHT
DESCRIPTION: DISCO NIGHT – návrat na parket! \nVe čtvrtek 7. listopadu od 22:00 tě ve Starých Lázních čeká noc plná těch největších diskotékových hitů! Za mixem DJ Breny\, který roztočí legendární pecky\, co tě nenechají sedět! \n Do půlnoci získáš voucher na bar v hodnotě 100 Kč! Vstup 18+ Staré Lázně\, Kolín\nOblékni se stylově\, vezmi partu a přijď si užít nejlepší disco atmosféru ve městě!\n
URL:https://starelazne.cz/event/disco-night/
LOCATION:Starokolínská 287\, Kolín 4\, 280 02\, Česká republika
ATTACH;FMTTYPE=image/jpeg:https://starelazne.cz/wp-content/uploads/2025/11/568262291_1233627685471592_1518331430289112634_n.jpg
END:VEVENT
END:VCALENDAR