BEGIN:VCALENDAR
VERSION:2.0
PRODID:-//Staré Lázně - ECPv4.6.9//NONSGML v1.0//EN
CALSCALE:GREGORIAN
METHOD:PUBLISH
X-WR-CALNAME:Staré Lázně
X-ORIGINAL-URL:https://starelazne.cz
X-WR-CALDESC:Events for Staré Lázně
BEGIN:VEVENT
DTSTART;TZID=Europe/Prague:20230929T210000
DTEND;TZID=Europe/Prague:20230930T050000
DTSTAMP:20260426T032421
CREATED:20230824T161739Z
LAST-MODIFIED:20230824T161739Z
UID:10959-1696021200-1696050000@starelazne.cz
SUMMARY:Cocktail night
DESCRIPTION:Doraž si vychutnat od našich barmanů speciální koktejly\, které budou po celý večer v akci!\n\nRadio stage:\nDJ Restin\n\n\n\nStart 21:00\nVstup 100 Kč\nKonec 5:00\n
URL:https://starelazne.cz/event/cocktail-night-2/
LOCATION:Starokolínská 287\, Kolín\, 28002\, CZ
ATTACH;FMTTYPE=image/jpeg:https://starelazne.cz/wp-content/uploads/2023/08/Cock.jpg
END:VEVENT
END:VCALENDAR