BEGIN:VCALENDAR
VERSION:2.0
PRODID:-//Staré Lázně - ECPv4.6.9//NONSGML v1.0//EN
CALSCALE:GREGORIAN
METHOD:PUBLISH
X-WR-CALNAME:Staré Lázně
X-ORIGINAL-URL:https://starelazne.cz
X-WR-CALDESC:Events for Staré Lázně
BEGIN:VEVENT
DTSTART;TZID=Europe/Prague:20240203T210000
DTEND;TZID=Europe/Prague:20240204T050000
DTSTAMP:20260425T023443
CREATED:20240130T234537Z
LAST-MODIFIED:20240130T234537Z
UID:11076-1706994000-1707022800@starelazne.cz
SUMMARY:Club Night
DESCRIPTION:Večer plný té nejnovější klubové hudby!\n\nNa co se můžeš těšit?\n– 2x Stage\n– 4x DJs\n– Drinky v akci\n– Voucher v hodnotě 60 Kč\, pokud dorazíš do 0:00\n\n\nDJs\n– Vanner\n– Wopi\n– Mashty\n– Toma\n\nStart 21:00\nVstup 150 Kč\n16+\n
URL:https://starelazne.cz/event/club-night/
LOCATION:Starokolínská 287\, Kolín 4\, 280 02\, Česká republika
ATTACH;FMTTYPE=image/jpeg:https://starelazne.cz/wp-content/uploads/2024/01/Club-night-timeline.jpg
END:VEVENT
END:VCALENDAR