BEGIN:VCALENDAR
VERSION:2.0
PRODID:-//Staré Lázně - ECPv4.6.9//NONSGML v1.0//EN
CALSCALE:GREGORIAN
METHOD:PUBLISH
X-WR-CALNAME:Staré Lázně
X-ORIGINAL-URL:https://starelazne.cz
X-WR-CALDESC:Events for Staré Lázně
BEGIN:VEVENT
DTSTART;TZID=Europe/Prague:20240302T210000
DTEND;TZID=Europe/Prague:20240303T050000
DTSTAMP:20260425T141650
CREATED:20240223T133242Z
LAST-MODIFIED:20240223T133315Z
UID:11183-1709413200-1709442000@starelazne.cz
SUMMARY:Club Night
DESCRIPTION:Ta nejaktuálnější taneční hudba po celý večer!\n\nClub Stage:\nFreezee\nVanner\nZedix\n\nRadio Stage\n– Toma\n\nStart 21:00\nVstup 150 Kč\n
URL:https://starelazne.cz/event/club-night-2/
LOCATION:Starokolínská 287\, Kolín 4\, 280 02\, Česká republika
ATTACH;FMTTYPE=image/jpeg:https://starelazne.cz/wp-content/uploads/2024/02/Club-night-timeline.jpg
END:VEVENT
END:VCALENDAR