BEGIN:VCALENDAR
VERSION:2.0
PRODID:-//Staré Lázně - ECPv4.6.9//NONSGML v1.0//EN
CALSCALE:GREGORIAN
METHOD:PUBLISH
X-WR-CALNAME:Staré Lázně
X-ORIGINAL-URL:https://starelazne.cz
X-WR-CALDESC:Events for Staré Lázně
BEGIN:VEVENT
DTSTART;TZID=Europe/Prague:20231013T210000
DTEND;TZID=Europe/Prague:20231014T050000
DTSTAMP:20260425T212314
CREATED:20231013T122714Z
LAST-MODIFIED:20231013T122714Z
UID:10991-1697230800-1697259600@starelazne.cz
SUMMARY:Chupito Night
DESCRIPTION:Oblíbené Chupito v akci za 40 kč! O hudbu se postará náš residentní DJ Breny.\n\n\nStart 21:00\nVstup 100 Kč\nKonec 5:00\n
URL:https://starelazne.cz/event/chupito-night-8/
LOCATION:Starokolínská 287\, Kolín 4\, 280 02\, Česká republika
ATTACH;FMTTYPE=image/jpeg:https://starelazne.cz/wp-content/uploads/2023/10/Chupito-TIMELINE.jpg
END:VEVENT
END:VCALENDAR