BEGIN:VCALENDAR
VERSION:2.0
PRODID:-//Staré Lázně - ECPv4.6.9//NONSGML v1.0//EN
CALSCALE:GREGORIAN
METHOD:PUBLISH
X-WR-CALNAME:Staré Lázně
X-ORIGINAL-URL:https://starelazne.cz
X-WR-CALDESC:Events for Staré Lázně
BEGIN:VEVENT
DTSTART;TZID=Europe/Prague:20230107T210000
DTEND;TZID=Europe/Prague:20230108T050000
DTSTAMP:20260425T183717
CREATED:20230104T131958Z
LAST-MODIFIED:20230104T131958Z
UID:10751-1673125200-1673154000@starelazne.cz
SUMMARY:Chupito Night
DESCRIPTION:Oblíbené Chupito v akci!\n\nRadio Stage:\nDj Breny\n\n\nOpen door – 21:00\nVstup povolen od 16 let.\nVstupné 100 Kč\nKonec – 5:00\n
URL:https://starelazne.cz/event/chupito-night-6/
LOCATION:Starokolínská 287\, Kolín 4\, 280 02\, Česká republika
ATTACH;FMTTYPE=image/jpeg:https://starelazne.cz/wp-content/uploads/2023/01/Chupito-Night-udalost.jpg
END:VEVENT
END:VCALENDAR