BEGIN:VCALENDAR
VERSION:2.0
PRODID:-//Staré Lázně - ECPv4.6.9//NONSGML v1.0//EN
CALSCALE:GREGORIAN
METHOD:PUBLISH
X-WR-CALNAME:Staré Lázně
X-ORIGINAL-URL:https://starelazne.cz
X-WR-CALDESC:Events for Staré Lázně
BEGIN:VEVENT
DTSTART;TZID=Europe/Prague:20221014T210000
DTEND;TZID=Europe/Prague:20221014T210000
DTSTAMP:20260424T202841
CREATED:20221003T150204Z
LAST-MODIFIED:20221003T150204Z
UID:10416-1665781200-1665781200@starelazne.cz
SUMMARY:Chupito Night
DESCRIPTION:Tvé oblíbené čupíto v akci! Doraž s přáteli si ho vychutnat.\nPro všechny návštěvníky\, kteří přijdou do 0:00 máme připravený kupon v hodnotě 60kč\, který můžeš uplatnit na baru za svůj drink!\n\nRADIO STAGE\n• Dj Fanny\n\n┎ Start 21:00\n┣ Vstupné 100 CZK\n┢ Povolený věk – od 16let\n┗ End 05:00\n
URL:https://starelazne.cz/event/chupito-night-5/
LOCATION:Starokolínská 287\, Kolín 4\, 280 02\, Česká republika
ATTACH;FMTTYPE=image/jpeg:https://starelazne.cz/wp-content/uploads/2022/10/Chupito-Night-udalost.jpg
END:VEVENT
END:VCALENDAR