BEGIN:VCALENDAR
VERSION:2.0
PRODID:-//Staré Lázně - ECPv4.6.9//NONSGML v1.0//EN
CALSCALE:GREGORIAN
METHOD:PUBLISH
X-WR-CALNAME:Staré Lázně
X-ORIGINAL-URL:https://starelazne.cz
X-WR-CALDESC:Events for Staré Lázně
BEGIN:VEVENT
DTSTART;TZID=Europe/Prague:20240301T210000
DTEND;TZID=Europe/Prague:20240302T050000
DTSTAMP:20260425T140814
CREATED:20240223T133128Z
LAST-MODIFIED:20240223T133128Z
UID:11180-1709326800-1709355600@starelazne.cz
SUMMARY:Black Friday
DESCRIPTION:Černý pátek plný slev až do výše 50%\n\nRadio Stage\n– DJ BRENY\n\nVstup 100 Kč\n
URL:https://starelazne.cz/event/black-friday-2/
LOCATION:Starokolínská 287\, Kolín 4\, 280 02\, Česká republika
ATTACH;FMTTYPE=image/jpeg:https://starelazne.cz/wp-content/uploads/2024/02/428600212_789475863220112_450203581493133434_n.jpeg
END:VEVENT
END:VCALENDAR